BEGIN:VCALENDAR
VERSION:2.0
PRODID:-//Interboro Theater - ECPv6.15.20//NONSGML v1.0//EN
CALSCALE:GREGORIAN
METHOD:PUBLISH
X-ORIGINAL-URL:https://www.interborotheater.com
X-WR-CALDESC:Events for Interboro Theater
REFRESH-INTERVAL;VALUE=DURATION:PT1H
X-Robots-Tag:noindex
X-PUBLISHED-TTL:PT1H
BEGIN:VTIMEZONE
TZID:America/New_York
BEGIN:DAYLIGHT
TZOFFSETFROM:-0500
TZOFFSETTO:-0400
TZNAME:EDT
DTSTART:20220313T070000
END:DAYLIGHT
BEGIN:STANDARD
TZOFFSETFROM:-0400
TZOFFSETTO:-0500
TZNAME:EST
DTSTART:20221106T060000
END:STANDARD
BEGIN:DAYLIGHT
TZOFFSETFROM:-0500
TZOFFSETTO:-0400
TZNAME:EDT
DTSTART:20230312T070000
END:DAYLIGHT
BEGIN:STANDARD
TZOFFSETFROM:-0400
TZOFFSETTO:-0500
TZNAME:EST
DTSTART:20231105T060000
END:STANDARD
BEGIN:DAYLIGHT
TZOFFSETFROM:-0500
TZOFFSETTO:-0400
TZNAME:EDT
DTSTART:20240310T070000
END:DAYLIGHT
BEGIN:STANDARD
TZOFFSETFROM:-0400
TZOFFSETTO:-0500
TZNAME:EST
DTSTART:20241103T060000
END:STANDARD
END:VTIMEZONE
BEGIN:VEVENT
DTSTART;TZID=America/New_York:20231202T143000
DTEND;TZID=America/New_York:20231202T163000
DTSTAMP:20260425T105742
CREATED:20231031T010352Z
LAST-MODIFIED:20231031T010523Z
UID:1185-1701527400-1701534600@www.interborotheater.com
SUMMARY:Game of Tiaras - matinee
DESCRIPTION:
URL:https://www.interborotheater.com/event/game-of-tiaras-matinee/
LOCATION:Interboro High School\, 16th and Amosland Ave\, Prospect Park\, PA\, 19076\, United States
END:VEVENT
BEGIN:VEVENT
DTSTART;TZID=America/New_York:20231202T190000
DTEND;TZID=America/New_York:20231202T210000
DTSTAMP:20260425T105742
CREATED:20231031T010432Z
LAST-MODIFIED:20231031T013233Z
UID:1187-1701543600-1701550800@www.interborotheater.com
SUMMARY:Game of Tiaras - Final Show
DESCRIPTION:
URL:https://www.interborotheater.com/event/game-of-tiaras-final-show/
LOCATION:Interboro High School\, 16th and Amosland Ave\, Prospect Park\, PA\, 19076\, United States
END:VEVENT
END:VCALENDAR