BEGIN:VCALENDAR
VERSION:2.0
PRODID:-//Interboro Theater - ECPv6.15.20//NONSGML v1.0//EN
CALSCALE:GREGORIAN
METHOD:PUBLISH
X-WR-CALNAME:Interboro Theater
X-ORIGINAL-URL:https://www.interborotheater.com
X-WR-CALDESC:Events for Interboro Theater
REFRESH-INTERVAL;VALUE=DURATION:PT1H
X-Robots-Tag:noindex
X-PUBLISHED-TTL:PT1H
BEGIN:VTIMEZONE
TZID:America/New_York
BEGIN:DAYLIGHT
TZOFFSETFROM:-0500
TZOFFSETTO:-0400
TZNAME:EDT
DTSTART:20220313T070000
END:DAYLIGHT
BEGIN:STANDARD
TZOFFSETFROM:-0400
TZOFFSETTO:-0500
TZNAME:EST
DTSTART:20221106T060000
END:STANDARD
BEGIN:DAYLIGHT
TZOFFSETFROM:-0500
TZOFFSETTO:-0400
TZNAME:EDT
DTSTART:20230312T070000
END:DAYLIGHT
BEGIN:STANDARD
TZOFFSETFROM:-0400
TZOFFSETTO:-0500
TZNAME:EST
DTSTART:20231105T060000
END:STANDARD
BEGIN:DAYLIGHT
TZOFFSETFROM:-0500
TZOFFSETTO:-0400
TZNAME:EDT
DTSTART:20240310T070000
END:DAYLIGHT
BEGIN:STANDARD
TZOFFSETFROM:-0400
TZOFFSETTO:-0500
TZNAME:EST
DTSTART:20241103T060000
END:STANDARD
END:VTIMEZONE
BEGIN:VEVENT
DTSTART;TZID=America/New_York:20231129T190000
DTEND;TZID=America/New_York:20231129T210000
DTSTAMP:20260423T181042
CREATED:20231031T005408Z
LAST-MODIFIED:20231031T014106Z
UID:1177-1701284400-1701291600@www.interborotheater.com
SUMMARY:Game of Tiaras - Opening Night
DESCRIPTION:When the aging king of a Magical Kingdom (England) decides to split his empire between his three daughters\, Cinderella\, Belle\, and the Snow Queen (who in no way resembles a copyrighted character)\, terrible tragedy ensues. Terrible\, hilarious tragedy. Combining the gut-wrenching plot twists of Game of Thrones and the soul-numbing despair of Shakespearean tragedy\, this adaptation of King Lear will leave you dying with laughter as the body count mounts. When you play the Game of Tiaras\, you win or you die. 
URL:https://www.interborotheater.com/event/game-of-tiaras-opening-night/
LOCATION:Interboro High School\, 16th and Amosland Ave\, Prospect Park\, PA\, 19076\, United States
END:VEVENT
END:VCALENDAR